BEGIN:VCALENDAR
VERSION:2.0
PRODID:-//Tukios.com/
BEGIN:VEVENT
UID:526dac73-6d92-4bde-8348-9817b743bbfb@www.whitfieldfuneralhomes.com
DTSTAMP:20260421T194804Z
DTSTART:20260424T150000Z
DTEND:20260424T160000Z
SUMMARY:Graveside Service
DESCRIPTION:
URL:https://www.whitfieldfuneralhomes.com/obituaries/kenneth-dill
LOCATION: Hazel Creek Church Road   GA 30563
GEO:34.571095;-83.4819103
END:VEVENT
END:VCALENDAR